Workbook

Sheet Hoa_don_ban
A1: Mã KH | B1: Số HĐ | C1: Ngày HĐ | D1: Số tiền
A2: KH-A | B2: 0000301 | C2: 46183 | D2: 48000000
A3: KH-A | B3: 0000355 | C3: 46254 | D3: 36000000
A4: KH-A | B4: 0000390 | C4: 46280 | D4: 22000000
A5: KH-B | B5: 0000312 | C5: 46198 | D5: 75000000
A6: KH-B | B6: 0000370 | C6: 46262 | D6: 40000000
A7: KH-C | B7: 0000340 | C7: 46233 | D7: 12500000
A8: KH-C | B8: 0000388 | C8: 46275 | D8: 18000000
A9: KH-D | B9: 0000320 | C9: 46208 | D9: 60000000
A10: KH-D | B10: 0000395 | C10: 46290 | D10: 9000000
A12: Dữ liệu giả lập của AI Thạo Việc.

Sheet Thanh_toan
A1: Mã KH | B1: Trả cho HĐ | C1: Ngày nhận | D1: Số tiền
A2: KH-A | B2: 0000301 | C2: 46223 | D2: 48000000
A3: KH-B | B3: 0000312 | C3: 46264 | D3: 45000000
A4: KH-C | B4: 0000340 | C4: 46267 | D4: 12500000
A5: KH-D | B5: 0000320 | C5: 46244 | D5: 20000000
A6: KH-B | C6: 46293 | D6: 30000000

Sheet Han_hop_dong
A1: Mã KH | B1: Số ngày được trả chậm
A2: KH-A | B2: 30
A3: KH-B | B3: 45
A4: KH-C | B4: 15
A5: KH-D | B5: 30

Sheet Tuoi_no
A1: Mã KH | B1: Số HĐ | C1: Ngày HĐ | D1: Ngày được trả chậm | E1: Hạn trả | F1: Số tiền | G1: Đã trả | H1: Còn nợ | I1: Số ngày quá hạn | J1: Nhóm tuổi nợ | L1: Ngày tính | M1: 46295
A2: KH-A | B2: 0000301 | C2: 46183 | D2: =VLOOKUP(A2,Han_hop_dong!A:B,2,FALSE) | E2: =C2+D2 | F2: 48000000 | G2: =SUMIFS(Thanh_toan!D:D,Thanh_toan!A:A,A2,Thanh_toan!B:B,B2) | H2: =F2-G2 | I2: =IF(H2>0,$M$1-E2,"") | J2: =IF(H2<=0,"Đã trả đủ",IF(I2<=0,"Chưa đến hạn",IF(I2<=30,"Quá hạn 1-30 ngày",IF(I2<=60,"Quá hạn 31-60 ngày",IF(I2<=90,"Quá hạn 61-90 ngày","Quá hạn trên 90 ngày")))))
A3: KH-A | B3: 0000355 | C3: 46254 | D3: =VLOOKUP(A3,Han_hop_dong!A:B,2,FALSE) | E3: =C3+D3 | F3: 36000000 | G3: =SUMIFS(Thanh_toan!D:D,Thanh_toan!A:A,A3,Thanh_toan!B:B,B3) | H3: =F3-G3 | I3: =IF(H3>0,$M$1-E3,"") | J3: =IF(H3<=0,"Đã trả đủ",IF(I3<=0,"Chưa đến hạn",IF(I3<=30,"Quá hạn 1-30 ngày",IF(I3<=60,"Quá hạn 31-60 ngày",IF(I3<=90,"Quá hạn 61-90 ngày","Quá hạn trên 90 ngày")))))
A4: KH-A | B4: 0000390 | C4: 46280 | D4: =VLOOKUP(A4,Han_hop_dong!A:B,2,FALSE) | E4: =C4+D4 | F4: 22000000 | G4: =SUMIFS(Thanh_toan!D:D,Thanh_toan!A:A,A4,Thanh_toan!B:B,B4) | H4: =F4-G4 | I4: =IF(H4>0,$M$1-E4,"") | J4: =IF(H4<=0,"Đã trả đủ",IF(I4<=0,"Chưa đến hạn",IF(I4<=30,"Quá hạn 1-30 ngày",IF(I4<=60,"Quá hạn 31-60 ngày",IF(I4<=90,"Quá hạn 61-90 ngày","Quá hạn trên 90 ngày")))))
A5: KH-B | B5: 0000312 | C5: 46198 | D5: =VLOOKUP(A5,Han_hop_dong!A:B,2,FALSE) | E5: =C5+D5 | F5: 75000000 | G5: =SUMIFS(Thanh_toan!D:D,Thanh_toan!A:A,A5,Thanh_toan!B:B,B5) | H5: =F5-G5 | I5: =IF(H5>0,$M$1-E5,"") | J5: =IF(H5<=0,"Đã trả đủ",IF(I5<=0,"Chưa đến hạn",IF(I5<=30,"Quá hạn 1-30 ngày",IF(I5<=60,"Quá hạn 31-60 ngày",IF(I5<=90,"Quá hạn 61-90 ngày","Quá hạn trên 90 ngày")))))
A6: KH-B | B6: 0000370 | C6: 46262 | D6: =VLOOKUP(A6,Han_hop_dong!A:B,2,FALSE) | E6: =C6+D6 | F6: 40000000 | G6: =SUMIFS(Thanh_toan!D:D,Thanh_toan!A:A,A6,Thanh_toan!B:B,B6) | H6: =F6-G6 | I6: =IF(H6>0,$M$1-E6,"") | J6: =IF(H6<=0,"Đã trả đủ",IF(I6<=0,"Chưa đến hạn",IF(I6<=30,"Quá hạn 1-30 ngày",IF(I6<=60,"Quá hạn 31-60 ngày",IF(I6<=90,"Quá hạn 61-90 ngày","Quá hạn trên 90 ngày")))))
A7: KH-C | B7: 0000340 | C7: 46233 | D7: =VLOOKUP(A7,Han_hop_dong!A:B,2,FALSE) | E7: =C7+D7 | F7: 12500000 | G7: =SUMIFS(Thanh_toan!D:D,Thanh_toan!A:A,A7,Thanh_toan!B:B,B7) | H7: =F7-G7 | I7: =IF(H7>0,$M$1-E7,"") | J7: =IF(H7<=0,"Đã trả đủ",IF(I7<=0,"Chưa đến hạn",IF(I7<=30,"Quá hạn 1-30 ngày",IF(I7<=60,"Quá hạn 31-60 ngày",IF(I7<=90,"Quá hạn 61-90 ngày","Quá hạn trên 90 ngày")))))
A8: KH-C | B8: 0000388 | C8: 46275 | D8: =VLOOKUP(A8,Han_hop_dong!A:B,2,FALSE) | E8: =C8+D8 | F8: 18000000 | G8: =SUMIFS(Thanh_toan!D:D,Thanh_toan!A:A,A8,Thanh_toan!B:B,B8) | H8: =F8-G8 | I8: =IF(H8>0,$M$1-E8,"") | J8: =IF(H8<=0,"Đã trả đủ",IF(I8<=0,"Chưa đến hạn",IF(I8<=30,"Quá hạn 1-30 ngày",IF(I8<=60,"Quá hạn 31-60 ngày",IF(I8<=90,"Quá hạn 61-90 ngày","Quá hạn trên 90 ngày")))))
A9: KH-D | B9: 0000320 | C9: 46208 | D9: =VLOOKUP(A9,Han_hop_dong!A:B,2,FALSE) | E9: =C9+D9 | F9: 60000000 | G9: =SUMIFS(Thanh_toan!D:D,Thanh_toan!A:A,A9,Thanh_toan!B:B,B9) | H9: =F9-G9 | I9: =IF(H9>0,$M$1-E9,"") | J9: =IF(H9<=0,"Đã trả đủ",IF(I9<=0,"Chưa đến hạn",IF(I9<=30,"Quá hạn 1-30 ngày",IF(I9<=60,"Quá hạn 31-60 ngày",IF(I9<=90,"Quá hạn 61-90 ngày","Quá hạn trên 90 ngày")))))
A10: KH-D | B10: 0000395 | C10: 46290 | D10: =VLOOKUP(A10,Han_hop_dong!A:B,2,FALSE) | E10: =C10+D10 | F10: 9000000 | G10: =SUMIFS(Thanh_toan!D:D,Thanh_toan!A:A,A10,Thanh_toan!B:B,B10) | H10: =F10-G10 | I10: =IF(H10>0,$M$1-E10,"") | J10: =IF(H10<=0,"Đã trả đủ",IF(I10<=0,"Chưa đến hạn",IF(I10<=30,"Quá hạn 1-30 ngày",IF(I10<=60,"Quá hạn 31-60 ngày",IF(I10<=90,"Quá hạn 61-90 ngày","Quá hạn trên 90 ngày")))))

Sheet Tong_hop
A1: Nhóm | B1: Còn nợ (SUMIF)
A2: Chưa đến hạn | B2: =SUMIF(Tuoi_no!J:J,"Chưa đến hạn",Tuoi_no!H:H)
A3: Quá hạn 1-30 ngày | B3: =SUMIF(Tuoi_no!J:J,"Quá hạn 1-30 ngày",Tuoi_no!H:H)
A4: Quá hạn 31-60 ngày | B4: =SUMIF(Tuoi_no!J:J,"Quá hạn 31-60 ngày",Tuoi_no!H:H)
A5: Quá hạn 61-90 ngày | B5: =SUMIF(Tuoi_no!J:J,"Quá hạn 61-90 ngày",Tuoi_no!H:H)
A6: Quá hạn trên 90 ngày | B6: =SUMIF(Tuoi_no!J:J,"Quá hạn trên 90 ngày",Tuoi_no!H:H)
A7: Tổng còn nợ theo hóa đơn | B7: =SUM(B2:B6)
A8: Kiểm: tổng HĐ trừ tổng đã phân bổ | B8: =SUM(Hoa_don_ban!D:D)-SUMIF(Thanh_toan!B:B,"<>",Thanh_toan!D:D)
A9: Tiền đã nhận chưa phân bổ cho HĐ nào | B9: =SUMIF(Thanh_toan!B:B,"",Thanh_toan!D:D)

Sheet Phai_tra_NCC
A1: Nhà cung cấp | B1: Hóa đơn | C1: Ngày HĐ | D1: Số ngày được trả chậm | E1: Hạn trả | F1: Số tiền | G1: Trong 14 ngày tới? | I1: Ngày tính | J1: 46295
A2: NCC-01 | B2: HĐ 00512 | C2: 46270 | D2: 30 | E2: =C2+D2 | F2: 24000000 | G2: =IF(E2<$J$1,"Đã quá hạn",IF(E2<=$J$1+14,"Có","Chưa"))
A3: NCC-02 | B3: HĐ 00133 | C3: 46285 | D3: 15 | E3: =C3+D3 | F3: 11000000 | G3: =IF(E3<$J$1,"Đã quá hạn",IF(E3<=$J$1+14,"Có","Chưa"))
A4: NCC-03 | B4: HĐ 01020 | C4: 46259 | D4: 45 | E4: =C4+D4 | F4: 56000000 | G4: =IF(E4<$J$1,"Đã quá hạn",IF(E4<=$J$1+14,"Có","Chưa"))
A5: NCC-04 | B5: HĐ 00077 | C5: 46293 | D5: 30 | E5: =C5+D5 | F5: 7500000 | G5: =IF(E5<$J$1,"Đã quá hạn",IF(E5<=$J$1+14,"Có","Chưa"))
